BEGIN:VCALENDAR
VERSION:2.0
PRODID:-//Squarespace Inc/Squarespace 6//v6//EN
BEGIN:VEVENT
UID:55947330e4b0c9512a3d8a80@squarespace.com
DTSTAMP:20150701T231142Z
DTSTART:20150703T233000Z
DTEND:20150705T003000Z
SUMMARY:booked
END:VEVENT
END:VCALENDAR
