BEGIN:VCALENDAR
VERSION:2.0
PRODID:-//Squarespace Inc/Squarespace 6//v6//EN
BEGIN:VEVENT
UID:558a0a05e4b0e953156b91dc@squarespace.com
DTSTAMP:20150624T013954Z
DTSTART:20150624T020000Z
DTEND:20150625T030000Z
SUMMARY:Booked
END:VEVENT
END:VCALENDAR
